BEGIN:VCALENDAR
VERSION:2.0
PRODID:-//Attitude MMA Fights - ECPv6.15.20//NONSGML v1.0//EN
CALSCALE:GREGORIAN
METHOD:PUBLISH
X-ORIGINAL-URL:https://attitudemma.com
X-WR-CALDESC:Events for Attitude MMA Fights
REFRESH-INTERVAL;VALUE=DURATION:PT1H
X-Robots-Tag:noindex
X-PUBLISHED-TTL:PT1H
BEGIN:VTIMEZONE
TZID:America/Chicago
BEGIN:DAYLIGHT
TZOFFSETFROM:-0600
TZOFFSETTO:-0500
TZNAME:CDT
DTSTART:20240310T080000
END:DAYLIGHT
BEGIN:STANDARD
TZOFFSETFROM:-0500
TZOFFSETTO:-0600
TZNAME:CST
DTSTART:20241103T070000
END:STANDARD
BEGIN:DAYLIGHT
TZOFFSETFROM:-0600
TZOFFSETTO:-0500
TZNAME:CDT
DTSTART:20250309T080000
END:DAYLIGHT
BEGIN:STANDARD
TZOFFSETFROM:-0500
TZOFFSETTO:-0600
TZNAME:CST
DTSTART:20251102T070000
END:STANDARD
BEGIN:DAYLIGHT
TZOFFSETFROM:-0600
TZOFFSETTO:-0500
TZNAME:CDT
DTSTART:20260308T080000
END:DAYLIGHT
BEGIN:STANDARD
TZOFFSETFROM:-0500
TZOFFSETTO:-0600
TZNAME:CST
DTSTART:20261101T070000
END:STANDARD
BEGIN:DAYLIGHT
TZOFFSETFROM:-0600
TZOFFSETTO:-0500
TZNAME:CDT
DTSTART:20270314T080000
END:DAYLIGHT
BEGIN:STANDARD
TZOFFSETFROM:-0500
TZOFFSETTO:-0600
TZNAME:CST
DTSTART:20271107T070000
END:STANDARD
END:VTIMEZONE
BEGIN:VTIMEZONE
TZID:UTC
BEGIN:STANDARD
TZOFFSETFROM:+0000
TZOFFSETTO:+0000
TZNAME:UTC
DTSTART:20220101T000000
END:STANDARD
END:VTIMEZONE
BEGIN:VEVENT
DTSTART;TZID=America/Chicago:20260314T170000
DTEND;TZID=America/Chicago:20260314T220000
DTSTAMP:20260422T172839
CREATED:20260125T230001Z
LAST-MODIFIED:20260322T165529Z
UID:10335-1773507600-1773525600@attitudemma.com
SUMMARY:Attitude MMA Fights 37 "Walls vs. Calvert"
DESCRIPTION:  Attitude MMA Fights 37 “Walls vs. Calvert”\n  Live from The Coronet\n  5770 Shelby Oaks Drive\, Memphis\, TN 38134\n  Date: March 14\, 2026\n\nPrepare for an electrifying night of mixed martial arts action as Attitude MMA Fights 37 takes over The Coronet in Memphis! Witness top fighters clash in the cage with relentless intensity\, skill\, and heart. This event promises high-energy matchups\, mythic moments\, and unforgettable battles that will keep fans on the edge of their seats.\n\nJoin us live for a night where legends are made and every fight tells a story. Don’t miss your chance to be part of the action — secure your tickets now and experience the raw power and passion of Attitude MMA!\n\nStay tuned for fighter announcements\, sponsor highlights\, and exclusive event updates. \nGET YOUR TICKETS ONLINE AT www.ticketsource.com/attitudefights/t-ldkmqno  \n 
URL:https://attitudemma.com/event/amma37/
LOCATION:The Coronet Memphis\, 5770 Shelby Oaks Dr\, Memphis\, TN\, 38134\, United States
CATEGORIES:Past
ATTACH;FMTTYPE=image/jpeg:https://attitudemma.com/wp-content/uploads/2026/03/S-stream-tn.jpg
ORGANIZER;CN="Attitude MMA Fights":MAILTO:info@attitudemma.com
END:VEVENT
BEGIN:VEVENT
DTSTART;VALUE=DATE:20251025
DTEND;VALUE=DATE:20251026
DTSTAMP:20260422T172839
CREATED:20250831T170032Z
LAST-MODIFIED:20260126T172055Z
UID:8237-1761350400-1761436799@attitudemma.com
SUMMARY:Attitude MMA Fights 36: Champions Quest
DESCRIPTION:🔥 Champions Quest – Where Futures Are Forged 🔥 \nGet ready for a high-octane night of MMA action as the region’s top amateur fighters step into the cage with one goal: earn a professional contract and take the next big leap in their careers. This is more than a fight card—it’s a proving ground. \n \n📍 Location: The Coronet Memphis\n🗓️ Date: Saturday\, October 25th\, 2025\n🕔 Doors Open: 5:00 PM CT\n🥊 First Bell: 6:00 PM \n \n🍽️ On-Site Amenities: \n\nTasty food options to keep you fueled\nSoft drinks\, beer\, wine & cocktails to keep the vibe flowing\nFree parking for easy access\n4 hours of nonstop action\nAll ages welcome – bring the whole crew!\n\n \n🎟️ Tickets: \n\nGrab yours online at TicketSource\nOr call the box office at 901-643-8241 to reserve by phone\n\n \n💥 Why You’ll Want to Be There \nEvery punch\, kick\, and takedown counts. These fighters are hungry\, focused\, and ready to leave it all in the cage. You’ll feel the intensity\, hear the crowd roar\, and witness the rise of tomorrow’s MMA stars—right here in Memphis. \nChampions Quest is calling. Be there when history is made. \n \n \n\n\nGet Tickets Now \n 
URL:https://attitudemma.com/event/amma36/
LOCATION:The Coronet Memphis\, 5770 Shelby Oaks Dr\, Memphis\, TN\, 38134\, United States
CATEGORIES:Past
ATTACH;FMTTYPE=image/jpeg:https://attitudemma.com/wp-content/uploads/2025/08/nAd.jpg
ORGANIZER;CN="Attitude MMA Fights":MAILTO:info@attitudemma.com
END:VEVENT
BEGIN:VEVENT
DTSTART;VALUE=DATE:20250816
DTEND;VALUE=DATE:20250817
DTSTAMP:20260422T172839
CREATED:20250831T222640Z
LAST-MODIFIED:20250914T230647Z
UID:8287-1755302400-1755388799@attitudemma.com
SUMMARY:Attitude MMA Fights 35: Southland Showdown III
DESCRIPTION:WATCH THE REPLAY HERE: ATTITUDE MMA FIGHTS 35\n\nStreamed live on Aug 16\, 2025 \n\nAttitude MMA Fights 35 Southland Casino Hotel\, West Memphis\, Arkansas Flyweight: Erik Calvert (4-2) vs Adarius Walls (1-0) Bantamweight: Johnathon Beckett (5-3) vs Chaka Worthy (5-7) Flyweight: Scott Calvert (0-0) vs Markee Jones (1-0) Undercard: Julio Martinez vs Mike Bowser Marcques Stamps vs Reggie Amerson Carson Rainwater vs Andrew Moore Hayden Holter vs Androlis Richardson Scotty Stober vs Noah Glenn Roland Pruden vs Brandon Gaitor Jacob Gaboriault vs Jayden Ayala Zack Rouse vs Terence McKenzie\n\n\nWe’re back at Southland Casino Hotel for the third time—and it’s going to be bigger than ever. “Southland Showdown III” features an electrifying professional title fight:\n\n\n Erik Calvert defends his flyweight belt against Adarious Walls\n\n\nDon’t miss the most action-packed MMA event of the year!\n\n\nGet ready for edge-of-your-seat excitement as Memphis’ fiercest MMA warriors go head-to-head in a night of high-octane\, full-contact combat. Whether you’re a seasoned fight fan or brand new to MMA\, this is your front-row seat to unforgettable battles.\n\n\nThis isn’t just another fight night—it’s a showcase of heart\, hustle\, and raw talent. Think UFC-level thrills \, but right here in Memphis!\n\n\nBe part of the movement. Support the next generation of global warriors and witness history in the making.
URL:https://attitudemma.com/event/amma35/
LOCATION:Southland Casino Hotel\, 1550 Ingram Blvd\, \, AR ·\, West Memphis\, TN\, 72301\, United States
CATEGORIES:Past
ATTACH;FMTTYPE=image/jpeg:https://attitudemma.com/wp-content/uploads/2025/08/AMMA-35-LS.jpg
ORGANIZER;CN="Attitude MMA Fights":MAILTO:info@attitudemma.com
END:VEVENT
BEGIN:VEVENT
DTSTART;VALUE=DATE:20250531
DTEND;VALUE=DATE:20250601
DTSTAMP:20260422T172839
CREATED:20250831T224744Z
LAST-MODIFIED:20250904T165250Z
UID:8296-1748649600-1748735999@attitudemma.com
SUMMARY:Attitude MMA Fights 34: Southland Showdown II
DESCRIPTION:WATCH THE REPLAY HERE: ATTITUDE MMA FIGHTS 34\n\n\nLFA Network presents Attitude MMA Fights 34 Southland Casino Hotel\, West Memphis\, Arkansas. Middleweight: Donovan Beard (8-5) vs Jaleel Willis (16-7) Welterweight: Patrick Becker (3-2-1) vs Chase Mann (6-0) Flyweight: Dylan Brigman (1-2) vs Adarius Walls (1-1) Open weight BJJ: James Wallace (11-4) vs Ethan Burmingham (5-0) Undercard: Darius Patterson vs Antwan Jennings Ryder Sisson vs Terrell Johnson Reece Wilkes vs Mo Alsamari Gabe McKay vs Cody Eakins Brandon McKinney vs Chris Tate Joe Tate vs Colten Denofrio Trey Odell vs Daniel Johnson\n\n\n Don’t Miss the Action-Packed Event of the Year! Get ready to witness the electrifying thrill of Attitude MMA Fights—where Memphis’ finest and fiercest MMA talents go head-to-head in high-octane battles that will leave you breathless!\nWhether you’re a die-hard MMA fan or new to the sport\, this is your chance to experience live\, full-contact combat like never before.\nOur events are not just fights—they’re a celebration of skill\, grit\, and heart. From rising stars to seasoned fighters\, these warriors put it all on the line to deliver the ultimate showdown. Think UFC-level excitement\, right here in Memphis\, TN!\n Can’t make it in person? Don’t worry! Tune in to our free livestream on YouTube via the Legacy Fighting Alliance Network and catch every knockout\, every takedown\, and every heart-pounding moment.\n But why settle for watching at home when you can feel the energy in the arena? Grab your tickets now and be part of an unforgettable night that puts you in the heart of the action. Seats are limited—don’t wait!\nJoin us at Attitude MMA Fights and help us shape the future of MMA by supporting the next generation of global warriors. It’s more than just a fight—it’s a movement. Be there!
URL:https://attitudemma.com/event/amma34/
LOCATION:Southland Casino Hotel\, 1550 Ingram Blvd\, \, AR ·\, West Memphis\, TN\, 72301\, United States
CATEGORIES:Past
ATTACH;FMTTYPE=image/jpeg:https://attitudemma.com/wp-content/uploads/2025/08/AMMA34-Stream-thumbnail.jpg
ORGANIZER;CN="Attitude MMA Fights":MAILTO:info@attitudemma.com
END:VEVENT
BEGIN:VEVENT
DTSTART;VALUE=DATE:20250215
DTEND;VALUE=DATE:20250216
DTSTAMP:20260422T172839
CREATED:20250831T223911Z
LAST-MODIFIED:20250904T213150Z
UID:8291-1739577600-1739663999@attitudemma.com
SUMMARY:Attitude MMA Fights 33: Forest vs Lamperez
DESCRIPTION:Calling all fight fans! Get ready for Attitude MMA Fights\, the premier Professional Mixed Martial Arts promotion in Memphis. AMMA33 is set to take over the spectacular Coronet-Memphis\, promising an unforgettable night of action. Watch as fierce athletes showcase their strength\, skill\, and passion inside the cage. Don’t miss out on the intensity of Attitude MMA Fights—join us for a night packed with thrilling matchups!\nMain Card Professional Welterweights:\nRaheem “Rambo” Forest vs Justice Lamperez\nPaul Kimble vs Ron Humphrey\nDavid Hayes vs Robert Burns\nBe there to witness the excitement live!
URL:https://attitudemma.com/event/amma33/
LOCATION:The Coronet Memphis\, 5770 Shelby Oaks Dr\, Memphis\, TN\, 38134\, United States
CATEGORIES:Past
ATTACH;FMTTYPE=image/jpeg:https://attitudemma.com/wp-content/uploads/2025/08/real-Stream-graphic.jpg
ORGANIZER;CN="Attitude MMA Fights":MAILTO:info@attitudemma.com
END:VEVENT
BEGIN:VEVENT
DTSTART;VALUE=DATE:20241109
DTEND;VALUE=DATE:20241110
DTSTAMP:20260422T172839
CREATED:20240822T164305Z
LAST-MODIFIED:20250904T155552Z
UID:6972-1731110400-1731196799@attitudemma.com
SUMMARY:Attitude MMA Fights 32: Clem vs Jones
DESCRIPTION:Attitude MMA Fights 32\nStreamed live on Nov 9\, 2024\, from The Coronet – Memphis\, TN \nlive. Featuring\nWelterweight – Austin Clem vs Irvin Jones\nFeatherweight – Jaylon McDaniel vs Nick Delahoussaye\nHeavyweight – Blake Mitchell vs Wil Redmond \nAntoine Carr vs Khadim Camara\nSeth Case vs Roberto Cruz\nWilliam Brown vs Eduardo Bolanos\nCutter Cornett vs Terrell Johnson\nLeonte Oneal vs Keegan Mainers\nIsiah Bradford vs Barak Muhammad \nMemphis\, Tennessee – Attitude MMA Fights 32: \nAttitude MMA is proud to announce its 32nd fight event\, wrapping up 2024 with our tradition of showcasing premier mixed martial arts talent. On November 9th\, 2024\, The Coronet Memphis will be the battleground for a night of high-stakes MMA action. \nJoin us for an unforgettable evening as top fighters from around the region compete in a series of thrilling matchups. Whether you’re a longtime fan or new to the sport\, this event promises excitement\, skill\, and the raw intensity that only MMA can deliver. \nDate: November 9th\, 2024\nLocation: The Coronet\, Memphis\, Tennessee \nStay tuned for more details on the fight card and ticket information. Don’t miss out on this epic conclusion to our 2024 season! \n\nDATE: SATURDAY\, November 9TH\, 2024\nThe Coronet 5770 Shelby Oaks Drive Memphis\, TN\nDoor Time: 5 PM\nBell Time: 6 PM\nPH: (731-259-0350)\n‍Broadcasting Live on the LFA Fight Network at www.youtube.com/@lfafights\n#AttitudeMMAFights32 #MMA #MemphisMMA #FightNight \n 
URL:https://attitudemma.com/event/amma32/
LOCATION:TN
CATEGORIES:Past
ATTACH;FMTTYPE=image/png:https://attitudemma.com/wp-content/uploads/2024/08/AMMA32-Main-Event-33.png
ORGANIZER;CN="Attitude MMA Fights":MAILTO:info@attitudemma.com
END:VEVENT
BEGIN:VEVENT
DTSTART;VALUE=DATE:20240810
DTEND;VALUE=DATE:20240811
DTSTAMP:20260422T172839
CREATED:20240617T040155Z
LAST-MODIFIED:20250904T164039Z
UID:5759-1723248000-1723334399@attitudemma.com
SUMMARY:Attitude MMA Fights 31: Southland Showdown
DESCRIPTION:  \n \n  \n🔥 Attitude MMA Fights 31 — Live at Southland Casino Hotel! 🔥\nTennessee’s premier professional MMA promotion is bringing the heat to West Memphis\, Arkansas for an unforgettable night of cage-fighting action! \n📍 Southland Casino Hotel — now reimagined and ready to host the region’s fiercest warriors.\n🥊 12 electrifying Pro/Am bouts\n🏆 Championship Title Fights\n🎶 Food\, Drinks\, Music & Nonstop Excitement\n🔞 Adults 18+ only \n📅 Saturday\, August 10th\, 2024\n📍 1550 Ingram Blvd\, West Memphis\, AR 72301\n🕔 Doors Open: 5:00 PM | First Bell: 6:00 PM\n📞 Info Line: (731) 259-0350\n📺 Streaming LIVE on the LFA Fight Network → youtube.com/@LFAFIGHTS \n🎟️ Tickets Available Now! \n\nGeneral Admission\nReserved Cage-side Tables & VIP Seating\n👉 www.ticketsource.us/attitudemmafights\n\n🎰 Southland Casino Hotel — Slots\, Table Games & More\n📍 [MAP LINK] \n💥 Proudly sponsored by Top Gun and Waldows Chicken & Wings\nLet’s show out for the Mid-South fight scene! \n#AttitudeMMAFights31 #FightNight #MemphisMMA #LiveMMA #SouthlandShowdown \n\nWant me to tailor this for radio\, social\, or billboard next? Let’s keep the momentum rolling.
URL:https://attitudemma.com/event/amma31/
LOCATION:Southland Casino Hotel\, 1550 Ingram Blvd\, \, AR ·\, West Memphis\, TN\, 72301\, United States
CATEGORIES:Past
ATTACH;FMTTYPE=image/jpeg:https://attitudemma.com/wp-content/uploads/2024/06/AMMA-faceoff-16x9-Calvert-Smith.jpg
ORGANIZER;CN="Attitude MMA Fights":MAILTO:info@attitudemma.com
END:VEVENT
BEGIN:VEVENT
DTSTART;VALUE=DATE:20240511
DTEND;VALUE=DATE:20240512
DTSTAMP:20260422T172839
CREATED:20180514T144340Z
LAST-MODIFIED:20250904T164208Z
UID:4080-1715385600-1715471999@attitudemma.com
SUMMARY:Attitude MMA Fights 30 at The Coronet
DESCRIPTION:Memphis\, Tennessee – Attitude MMA Fights 30: A Decade of Excellence\nAttitude MMA is proud to announce its 30th fight event\, marking the 10th Anniversary of showcasing premier mixed martial arts talent. On May 11\, 2024\, The Coronet will be the battleground for a night of high-stakes MMA action. \nMain Event: “Jesse” James Wallace vs. Jarel Askew\nLadies and gentlemen\, the Main Event is upon us! In one corner\, we have the seasoned warrior “Jesse” James Wallace. At 31 years old\, Wallace is a BJJ Black Belt with an impressive 10-4 record\, including 7 wins by submission. His prowess has earned him the #3 ranking as a professional Welterweight in Tennessee. Hailing from Horn Lake\, MS\, he now fights out of Warner Robbins\, GA\, under the guidance of UFC legend Cole Miller. \nAnd in the opposite corner stands Jarel Askew\, also 31 years old. With an MMA record of 13 wins and 8 losses\, Askew brings a wealth of experience. His arsenal includes 6 wins by KO/TKO and 5 by submission. Notably\, Askew is a multi-time champion and holds a purple belt in BJJ. Originally from the rugged terrain of Alaska\, he now proudly represents Denver\, CO\, alongside Team Elevation. \nCo-Main Event: Trey “He So” Manley vs. James Hay\nBrace yourselves for an exhilarating Co-Main Event that promises fireworks! In one corner\, we have the formidable Trey “He So” Manley\, ready to unleash his fury. And in the opposite corner\, the resilient James Hay\, determined to carve his name into the annals of MMA history. \nTrey Manley\, with a 4-2 record\, has left a trail of devastation in his wake. His fists are like thunder\, with 3 wins by KO/TKO—a testament to his raw power. Hailing from the vibrant city of Memphis\, TN\, Manley trains diligently at the esteemed Memphis Judo and Jiu Jitsu. His most recent performance at Attitude MMA Fights 28 earned him the coveted Fight of the Night honors. Get ready for a high-octane clash as Manley steps into the spotlight! \nOn the other side of the cage stands James Hay\, a warrior with a 3-3 record. Hailing from the sun-kissed shores of San Juan\, Puerto Rico\, Hay brings a wealth of experience. His MMA journey has seen both triumphs and setbacks\, with 3 wins and 3 losses to his name. Currently honing his skills in the training grounds of Palm Beach\, Florida\, under the banner of Kill Cliff FC\, Hay is hungry for redemption. Will he seize victory and silence the doubters? \nFlyweight bout: Tyler K. Forsythe vs. Dakota “The Dream” Smith\nPrepare to witness a clash of titans in the Professional Flyweight division! In one corner\, we have the indomitable Tyler K. Forsythe\, representing Byhalia\, MS\, and fighting out of Desoto Apex MMA. And in the opposite corner\, the tenacious Dakota “The Dream” Smith\, hailing from Sarah\, MS\, and proudly representing Memphis and Memphis Judo and Jitsu. \nTyler K. Forsythe\, hailing from Byhalia\, MS\, and fighting out of Desoto Apex MMA\, boasts an impressive 3-0 record. As the former Attitude MMA amateur Flyweight Champion\, he has already etched his name in the annals of the sport. His most recent victory at Attitude MMA Fights 24 secured him the Attitude MMA amateur Flyweight title. A submission specialist\, Forsythe has dispatched all three of his professional opponents via rear naked choke in the very first round. His prowess has earned him the coveted #1 ranking in Mississippi and a commendable 3rd position in Tennessee among professional Flyweights. \nDakota Smith\, with a 2-2 record\, calls Sarah\, MS\, home. Representing Memphis and Memphis Judo and Jitsu\, he is no stranger to thrilling battles. His standout performance at Attitude MMA fights 27 earned him the coveted Fight of the Night honors. Smith ranks 5th in the State of Mississippi as a Flyweight and an impressive 10th as a Bantamweight. Like Forsythe\, both of his professional wins were secured via the dreaded rear naked choke. Notably\, Smith remains undefeated as an amateur\, boasting an impressive 6 wins. \nGet ready for an explosive showdown as these two warriors’ step into the cage! The stakes are high\, the adrenaline is pumping\, and the crowd awaits with bated breath. Who will emerge victorious? Only the canvas will reveal the answer. \nFeatherweight Bout: Adryan “AG” Grundy vs. Roland “The Armadillo” Pruden\nGet ready for an electrifying collision of warriors! In the featherweight division\, two exceptional fighters are set to square off. Adryan Grundy\, with a seasoned 2-1 record\, stands at 16th in Tennessee and an impressive 20th as a Lightweight. His recent decisive victory at Attitude MMA Fights 29 showcased his prowess. On the other side of the cage\, we have Roland Pruden\, a promising fighter with a 1-0 record. Pruden holds the 5th spot in Arkansas. Notably\, his swift submission win in his professional debut left spectators in awe. The stakes are high\, the adrenaline is pumping\, and the crowd awaits with bated breath. Who will rise\, and who will fall? Only the canvas will reveal the answer. \nThe Undercard: A Showcase of Emerging Talent The event will also feature 8 amateur bouts\, including 4 title fights\, highlighting the future stars of MMA. Among them\, undefeated amateur Flyweight champion Seth Britton (3-0) will defend his title against the skilled submission artist Dylan Brigman (6-4). \nIn a clash for the vacant Attitude MMA Amateur Heavyweight Title\, Parker Byars and Joel Faglier will face off. Byars\, aged 26 and fighting out of Memphis\, TN\, and SOG MMA\, boasts a record of 3 wins (3 by KO/TKO) and ranks 6th in Tennessee. Meanwhile\, Faglier\, aged 23 and representing Augusta\, GA\, with Faglier’s Mixed Martial Arts\, remains undefeated with 7 wins (4 by submission) and holds the top spot as the #1 ranked Amateur Heavyweight in the US Southeast. \nJoin us at The Coronet for a night that celebrates the past\, present\, and future of MMA. Be part of the legacy. Be part of the action. Be part of Attitude MMA Fights 30. \nTickets are available now! Visit www.ticketsource.us/attitudemmafights30 to secure your seat. \nCan’t join us in person? Stream the event live on the Legacy Fighting Alliance (LFA) Network YouTube page at www.youtube.com/@lfafights. \nContact: Attitude MMA Fights Public Relations\nEmail: info@attitudemma.com\nPhone: (901)497-3553\nVenue: The Coronet 5770 Shelby Oaks Drive Memphis\, TN\nDate: May 11th\, 2024\n#AttitudeMMAFights30 #MMA #MemphisMMA #FightNight
URL:https://attitudemma.com/event/amma30/
LOCATION:The Coronet Memphis\, 5770 Shelby Oaks Dr\, Memphis\, TN\, 38134\, United States
CATEGORIES:Past
ATTACH;FMTTYPE=image/jpeg:https://attitudemma.com/wp-content/uploads/2018/05/1920x1005-50@0.5x.jpg
ORGANIZER;CN="Attitude MMA Fights":MAILTO:info@attitudemma.com
END:VEVENT
BEGIN:VEVENT
DTSTART;VALUE=DATE:20240210
DTEND;VALUE=DATE:20240211
DTSTAMP:20260422T172839
CREATED:20240409T211408Z
LAST-MODIFIED:20250913T003831Z
UID:5469-1707523200-1707609599@attitudemma.com
SUMMARY:Attitude MMA Fights 29: A Night of Unforgettable Action
DESCRIPTION:WATCH THE REPLAY HERE – ATTITUDE MMA FIGHTS 29\n\nAttention all fight enthusiasts! Get ready for Attitude MMA Fights 29\, the leading Professional Mixed Martial Arts promotion in Memphis. Prepare yourself for an epic showdown at the incredible Memphis Music Room. Witness the strength\, skill\, and passion of these fierce athletes as they step into the cage. It’s time to experience the intensity of Attitude MMA Fights – join us for an unforgettable night of action-packed fights! #MemphisMMA #AttitudeMMAFights29 #CageFighting \n The excitement reached a fever pitch with the live streaming of Attitude MMA Fights 29 on Saturday\, February 10th\, directly from the Memphis Music Room in Memphis\, Tennessee. Fans worldwide tuned in at 7 p.m. ET / 4 p.m. PT to witness an explosive heavyweight showdown between undefeated prospects Petera Wilson and Dwight Maters.  The event featured a stacked card\, including:  \nMain Event | Heavyweight Bout: Petera Wilson (3-0) vs Dwight “Akuma” Maters (2-0)\n‍Co-Main Event | Featherweight Bout: Ethan Burmingham (2-0) vs Kevin Cornell Martin Jr. (0-2)\n‍Flyweight Bout: Tyler K. Forsythe (2-0) vs Will Caylor (0-0)\n‍Featherweight Bout: Adryan Grundy (1-1) vs Chris Vaughn (1-1) \nAttitude MMA Fights 29 was more than just a series of fights; it was a celebration of the spirit of MMA\, broadcasted live to a passionate audience eager for high-quality combat sports content. \n 
URL:https://attitudemma.com/event/amma29/
LOCATION:The Coronet Memphis\, 5770 Shelby Oaks Dr\, Memphis\, TN\, 38134\, United States
CATEGORIES:Past
ATTACH;FMTTYPE=image/jpeg:https://attitudemma.com/wp-content/uploads/2024/04/8.5x5.52.jpg
ORGANIZER;CN="Attitude MMA Fights":MAILTO:info@attitudemma.com
END:VEVENT
BEGIN:VEVENT
DTSTART;VALUE=DATE:20230916
DTEND;VALUE=DATE:20230917
DTSTAMP:20260422T172839
CREATED:20240409T224714Z
LAST-MODIFIED:20250913T001830Z
UID:5522-1694822400-1694908799@attitudemma.com
SUMMARY:Attitude MMA Fights 28
DESCRIPTION:Memphis Tennessee’s leading Professional Mixed Martial Arts promotion moves to The Cannon Center for the Performing Arts for Attitude MMA Fights Twenty-Eight\nThe Main Event matches (2-2) Jarious “The Fever” Gill and (2-0) Paul “The Wrecking Ball” Kimble for the Attitude MMA Professional Welterweight Title. The co-main event will see (7-3) Donovan “The Highlight Reel” Beard vs (4-1) Trey “He So” Manley in a professional welterweight matchup.\nWith (4) amateur titles on the line; (Lightweight) Coreno Blanchard vs Lane Roe\, (Flyweight) Markee Jones vs Seth Britton\, (Middleweight) Robbie Burns vs David Hayes\, and our first (Heavyweight) Grappling title Marquez Stamps vs Tyler Rose.\n– Date: Saturday\, September 16\, 2023\n– Location: The Cannon Center for the Performing Arts\n– Address: 255 N. Main St.\, Memphis\, TN 38103\n– Garage parking $10\n– Doors open: 05:00 PM– First Fight: 06:00 PM\nGET YOUR TICKETS NOW at The Cannon Center for the Performing Arts box office or online @ https://www.ticketmaster.com/event/1B005EFC91374537\nIf you can’t make it to the event in person\, watch all the action live or replayed at SpectationSports.com\n\n \n  \nRESULTS \nPaul Kimble via RNC 4:19 Rd1\nDonovan Beard via Slit Decision\nLane Roe via TKO 2:40 Rd2\nSeth Britton via RNC 1:40 Rd3\nDavid Hayes via Guillotine :36 Sec Rd2\nAnton Brown via shoulder choke 1:15 Rd 1\nTyler Rose via arm bar\nDarayvion Ester via TKO 2:07 rd2\nJeremy Stewart via unanimous decision\nCorbin Lyons via Anaconda choke Rd1 1:?\nRasheed Dorme via TKO 1:09 Rd2 \n  \n 
URL:https://attitudemma.com/event/attitude-mma-fights-28/
LOCATION:The Cannon Center\, 255 N. Main St\, Memphis\, TN\, 38103
CATEGORIES:Past
ATTACH;FMTTYPE=image/jpeg:https://attitudemma.com/wp-content/uploads/2024/04/AMMA28-1920x1005-2.jpg
ORGANIZER;CN="Attitude MMA Fights":MAILTO:info@attitudemma.com
END:VEVENT
END:VCALENDAR